BEGIN:VCALENDAR
VERSION:2.0
PRODID:-//Unga Forskare - ECPv6.15.17.1//NONSGML v1.0//EN
CALSCALE:GREGORIAN
METHOD:PUBLISH
X-WR-CALNAME:Unga Forskare
X-ORIGINAL-URL:https://ungaforskare.se
X-WR-CALDESC:Händelser för Unga Forskare
REFRESH-INTERVAL;VALUE=DURATION:PT1H
X-Robots-Tag:noindex
X-PUBLISHED-TTL:PT1H
BEGIN:VTIMEZONE
TZID:Europe/Stockholm
BEGIN:DAYLIGHT
TZOFFSETFROM:+0100
TZOFFSETTO:+0200
TZNAME:CEST
DTSTART:20170326T010000
END:DAYLIGHT
BEGIN:STANDARD
TZOFFSETFROM:+0200
TZOFFSETTO:+0100
TZNAME:CET
DTSTART:20171029T010000
END:STANDARD
BEGIN:DAYLIGHT
TZOFFSETFROM:+0100
TZOFFSETTO:+0200
TZNAME:CEST
DTSTART:20180325T010000
END:DAYLIGHT
BEGIN:STANDARD
TZOFFSETFROM:+0200
TZOFFSETTO:+0100
TZNAME:CET
DTSTART:20181028T010000
END:STANDARD
BEGIN:DAYLIGHT
TZOFFSETFROM:+0100
TZOFFSETTO:+0200
TZNAME:CEST
DTSTART:20190331T010000
END:DAYLIGHT
BEGIN:STANDARD
TZOFFSETFROM:+0200
TZOFFSETTO:+0100
TZNAME:CET
DTSTART:20191027T010000
END:STANDARD
END:VTIMEZONE
BEGIN:VEVENT
DTSTART;VALUE=DATE:20180214
DTEND;VALUE=DATE:20180422
DTSTAMP:20260424T220052
CREATED:20180214T110918Z
LAST-MODIFIED:20180219T082934Z
UID:9164-1518566400-1524355199@ungaforskare.se
SUMMARY:Var med och tävla i Chalmers Robotförenings årliga Robot-SM!
DESCRIPTION:Den 21 April 2018 är det äntligen dags igen för Robot-SM arrangerat av vår medlemsförening Chalmers Robotförening (CRF)!\nVill ni och era robotar vara med och tävla i en eller flera spännande grenar? Besök anmälningssidan för mer information\, anmälan och regler.\nTänk på att anmälan stänger en vecka innan tävlingen dvs lördag 14 april.\n\nVill du besöka evenemanget och titta på? Tävlingen är en del av programmet för vetenskapsfestivalen i Göteborg  och är både publikt och gratis. Tider för besökande är kl 10-17.
URL:https://ungaforskare.se/kalender/var-med-och-tavla-chalmers-robotforenings-arliga-robot-sm/
END:VEVENT
END:VCALENDAR