BEGIN:VCALENDAR
VERSION:2.0
PRODID:-//Unga Forskare - ECPv6.15.17.1//NONSGML v1.0//EN
CALSCALE:GREGORIAN
METHOD:PUBLISH
X-ORIGINAL-URL:https://ungaforskare.se
X-WR-CALDESC:Händelser för Unga Forskare
REFRESH-INTERVAL;VALUE=DURATION:PT1H
X-Robots-Tag:noindex
X-PUBLISHED-TTL:PT1H
BEGIN:VTIMEZONE
TZID:Europe/Stockholm
BEGIN:DAYLIGHT
TZOFFSETFROM:+0100
TZOFFSETTO:+0200
TZNAME:CEST
DTSTART:20170326T010000
END:DAYLIGHT
BEGIN:STANDARD
TZOFFSETFROM:+0200
TZOFFSETTO:+0100
TZNAME:CET
DTSTART:20171029T010000
END:STANDARD
BEGIN:DAYLIGHT
TZOFFSETFROM:+0100
TZOFFSETTO:+0200
TZNAME:CEST
DTSTART:20180325T010000
END:DAYLIGHT
BEGIN:STANDARD
TZOFFSETFROM:+0200
TZOFFSETTO:+0100
TZNAME:CET
DTSTART:20181028T010000
END:STANDARD
BEGIN:DAYLIGHT
TZOFFSETFROM:+0100
TZOFFSETTO:+0200
TZNAME:CEST
DTSTART:20190331T010000
END:DAYLIGHT
BEGIN:STANDARD
TZOFFSETFROM:+0200
TZOFFSETTO:+0100
TZNAME:CET
DTSTART:20191027T010000
END:STANDARD
END:VTIMEZONE
BEGIN:VEVENT
DTSTART;TZID=Europe/Stockholm:20181107T100000
DTEND;TZID=Europe/Stockholm:20181107T133000
DTSTAMP:20260426T013809
CREATED:20180713T131642Z
LAST-MODIFIED:20180713T145628Z
UID:9719-1541584800-1541597400@ungaforskare.se
SUMMARY:Gnistans Visionsdag i Trollhättan
DESCRIPTION:Välkommen till en energirik mässa högstadieungdomar från Trollhättan och omnejd ställer ut och tävlar med sina framtidsvisioner om energi- och hållbarhet! Temat är Smart Vattenhantering. \n\nBesök gärna mässan och inspireras av framtidens lösningar!  \n\nGnistan tar ungdomars innovationer kring framtidens smarta energilösningar på allvar\, i ett skolprojekt där alla deltagare har möjlighet att vara visionärer. Gnistan svarar mot det ökade behovet av tekniskt kunnande och ingenjörer i framtiden och skapar naturvetenskapliga och tekniska intryck för framtida avtryck.  \nGnistan- Unga idéer är ett nationellt samarbete mellan Vattenfall\, Unga Forskare och tre science centers.\n 
URL:https://ungaforskare.se/kalender/gnistans-visionsdag-i-trollhattan/
LOCATION:Innovatum Science Center\, Åkerssjövägen 16\, Trollhättan\, Sverige
END:VEVENT
END:VCALENDAR