BEGIN:VCALENDAR
VERSION:2.0
PRODID:-//Unga Forskare - ECPv6.15.17.1//NONSGML v1.0//EN
CALSCALE:GREGORIAN
METHOD:PUBLISH
X-ORIGINAL-URL:https://ungaforskare.se
X-WR-CALDESC:Händelser för Unga Forskare
REFRESH-INTERVAL;VALUE=DURATION:PT1H
X-Robots-Tag:noindex
X-PUBLISHED-TTL:PT1H
BEGIN:VTIMEZONE
TZID:Europe/Stockholm
BEGIN:DAYLIGHT
TZOFFSETFROM:+0100
TZOFFSETTO:+0200
TZNAME:CEST
DTSTART:20180325T010000
END:DAYLIGHT
BEGIN:STANDARD
TZOFFSETFROM:+0200
TZOFFSETTO:+0100
TZNAME:CET
DTSTART:20181028T010000
END:STANDARD
BEGIN:DAYLIGHT
TZOFFSETFROM:+0100
TZOFFSETTO:+0200
TZNAME:CEST
DTSTART:20190331T010000
END:DAYLIGHT
BEGIN:STANDARD
TZOFFSETFROM:+0200
TZOFFSETTO:+0100
TZNAME:CET
DTSTART:20191027T010000
END:STANDARD
BEGIN:DAYLIGHT
TZOFFSETFROM:+0100
TZOFFSETTO:+0200
TZNAME:CEST
DTSTART:20200329T010000
END:DAYLIGHT
BEGIN:STANDARD
TZOFFSETFROM:+0200
TZOFFSETTO:+0100
TZNAME:CET
DTSTART:20201025T010000
END:STANDARD
END:VTIMEZONE
BEGIN:VEVENT
DTSTART;VALUE=DATE:20190204
DTEND;VALUE=DATE:20190401
DTSTAMP:20260426T044155
CREATED:20190306T122349Z
LAST-MODIFIED:20190306T123651Z
UID:10636-1549238400-1554076799@ungaforskare.se
SUMMARY:Anmälan öppen: RAYS sommarforskarskola för gymnasieelever
DESCRIPTION:Research Academy for Young Scientists\, förkortat Rays\, är en sommarforskarskola för gymnasieelever som har ett brinnande intresse för naturvetenskap\, matematik eller teknik. \nAnmälan öppen! Ansök senast 31 mars\nBÄST I VÄRLDEN \nVi drivs av en enkel idé – att Sverige ska bli en världsledande nation inom forskning. Genom att uppmärksamma unga talanger och anordna en sommarforskarskola av kompromisslös kvalitet ger vi ungdomar en möjlighet att tidigt nå sin fulla potential. \nFORSKA PÅ RIKTIGT \nRays anordnas under juni och juli i vackra Strängnäs utanför Stockhom. Under fyra veckor får deltagarna upptäcka mer om vetenskap\, genomföra ett projekt på Kungliga Tekniska Högskolan\, Stockholms Universitet eller Karolinska Institutet och lära känna andra lika- sinnade elever. Det är ett fulladdat program som ger dig en inblick i livet som forskare samtidigt som det är fullspäckat med mängder av sociala aktiviteter som garanterar en oförglömlig sommar. \nKAN JAG DELTA? \nRays riktar sig till elever som läser andra året på gymnasiet och som har ett brinnande intresse för naturvetenskap\, matematik eller teknik. Du behöver inte ha deltagit i något liknande tidigare utan det viktigaste är att du känner att du har det intresse och engagemang som krävs. \nRays 2019 kommer att äga rum från den 16 juni till den 13 juli och är helt kostnadsfritt. Ansök senast den 31 mars. \nBesök gärna www.raysforexcellence.se för mer info.
URL:https://ungaforskare.se/kalender/anmalan-oppen-rays-sommarforskarskola-for-gymnasieelever/
END:VEVENT
END:VCALENDAR