BEGIN:VCALENDAR
VERSION:2.0
PRODID:-//Unga Forskare - ECPv6.15.17.1//NONSGML v1.0//EN
CALSCALE:GREGORIAN
METHOD:PUBLISH
X-ORIGINAL-URL:https://ungaforskare.se
X-WR-CALDESC:Händelser för Unga Forskare
REFRESH-INTERVAL;VALUE=DURATION:PT1H
X-Robots-Tag:noindex
X-PUBLISHED-TTL:PT1H
BEGIN:VTIMEZONE
TZID:Europe/Stockholm
BEGIN:DAYLIGHT
TZOFFSETFROM:+0100
TZOFFSETTO:+0200
TZNAME:CEST
DTSTART:20170326T010000
END:DAYLIGHT
BEGIN:STANDARD
TZOFFSETFROM:+0200
TZOFFSETTO:+0100
TZNAME:CET
DTSTART:20171029T010000
END:STANDARD
BEGIN:DAYLIGHT
TZOFFSETFROM:+0100
TZOFFSETTO:+0200
TZNAME:CEST
DTSTART:20180325T010000
END:DAYLIGHT
BEGIN:STANDARD
TZOFFSETFROM:+0200
TZOFFSETTO:+0100
TZNAME:CET
DTSTART:20181028T010000
END:STANDARD
BEGIN:DAYLIGHT
TZOFFSETFROM:+0100
TZOFFSETTO:+0200
TZNAME:CEST
DTSTART:20190331T010000
END:DAYLIGHT
BEGIN:STANDARD
TZOFFSETFROM:+0200
TZOFFSETTO:+0100
TZNAME:CET
DTSTART:20191027T010000
END:STANDARD
END:VTIMEZONE
BEGIN:VEVENT
DTSTART;TZID=Europe/Stockholm:20181130T180000
DTEND;TZID=Europe/Stockholm:20181202T180000
DTSTAMP:20260426T013840
CREATED:20181128T103637Z
LAST-MODIFIED:20181128T103936Z
UID:10183-1543600800-1543773600@ungaforskare.se
SUMMARY:Naturvetenskapliga Föreningen i Gävle bygger halmbock
DESCRIPTION:30 November – 2 December bygger NFs ledamöter och aspiranter en halmbock där man gärna får komma och hjälpa till hur mycket eller lite man vill\, man får även bara kolla på om det är så\, det kommer med största sannolikhet finnas fika på plats som det bjuds på! \n 
URL:https://ungaforskare.se/kalender/naturvetenskapliga-foreningen-i-gavle-bygger-halmbock/
END:VEVENT
END:VCALENDAR